BEGIN:VCALENDAR
VERSION:2.0
PRODID:-//Dynamic Elite Athletics - ECPv6.15.17//NONSGML v1.0//EN
CALSCALE:GREGORIAN
METHOD:PUBLISH
X-WR-CALNAME:Dynamic Elite Athletics
X-ORIGINAL-URL:https://dynamiceliteathletics.com
X-WR-CALDESC:Events for Dynamic Elite Athletics
REFRESH-INTERVAL;VALUE=DURATION:PT1H
X-Robots-Tag:noindex
X-PUBLISHED-TTL:PT1H
BEGIN:VTIMEZONE
TZID:UTC
BEGIN:STANDARD
TZOFFSETFROM:+0000
TZOFFSETTO:+0000
TZNAME:UTC
DTSTART:20250101T000000
END:STANDARD
END:VTIMEZONE
BEGIN:VEVENT
DTSTART;TZID=UTC:20260516T120000
DTEND;TZID=UTC:20260516T120000
DTSTAMP:20260424T124832
CREATED:20260413T151144Z
LAST-MODIFIED:20260414T142745Z
UID:10000048-1778932800-1778932800@dynamiceliteathletics.com
SUMMARY:FREE Open House
DESCRIPTION:🎉 May Open House – Rochester Location 🎉\n📍 5 Marway Circle\, Ste 2\, Rochester\, NY 14624\n🗓 Saturday\, May 16th\n⏰ 12:00 PM\n💥 FREE EVENT \nIs your child interested in competitive cheerleading?\nLooking to improve their tumbling skills — or try tumbling for the very first time?\nJoin us for our FREE Open House and see what makes our cheer & tumbling community so special! 💜💙 \n✨ What to Expect:\n✔️ Meet our incredible coaching team\n✔️ Learn about class options for every budget\n✔️ Athlete evaluations to find the perfect class fit\n✔️ Tour our 14\,000 sq. ft. facility\n✔️ Get all your questions answered on the spot \nThis is the perfect opportunity to explore\, learn\, and get started in a supportive\, high-energy environment! 💫 \n📌 Advance registration is requested so we can plan for your arrival. ⏰ Registration closes Friday\, May 15th. \n  \n 
URL:https://dynamiceliteathletics.com/event/free-open-house-2/
CATEGORIES:Upcoming Events
ATTACH;FMTTYPE=image/png:https://dynamiceliteathletics.com/wp-content/uploads/2026/04/2025-September-Open-House-Presentation.png
END:VEVENT
END:VCALENDAR