BEGIN:VCALENDAR
VERSION:2.0
PRODID:-//Dynamic Elite Athletics - ECPv6.15.17//NONSGML v1.0//EN
CALSCALE:GREGORIAN
METHOD:PUBLISH
X-WR-CALNAME:Dynamic Elite Athletics
X-ORIGINAL-URL:https://dynamiceliteathletics.com
X-WR-CALDESC:Events for Dynamic Elite Athletics
REFRESH-INTERVAL;VALUE=DURATION:PT1H
X-Robots-Tag:noindex
X-PUBLISHED-TTL:PT1H
BEGIN:VTIMEZONE
TZID:UTC
BEGIN:STANDARD
TZOFFSETFROM:+0000
TZOFFSETTO:+0000
TZNAME:UTC
DTSTART:20250101T000000
END:STANDARD
END:VTIMEZONE
BEGIN:VEVENT
DTSTART;TZID=UTC:20260119T120000
DTEND;TZID=UTC:20260119T150000
DTSTAMP:20260422T092035
CREATED:20251218T193334Z
LAST-MODIFIED:20251218T193336Z
UID:10000040-1768824000-1768834800@dynamiceliteathletics.com
SUMMARY:I Have A Dream... To Tumble Clinics
DESCRIPTION:✨🤸‍♀️💭 I Have A Dream… To Tumble Clinics 💭🤸‍♂️✨\nThis Martin Luther King\, Jr. Day\, we’re celebrating BIG dreams and strong progress in tumbling! Join us for our “I Have A Dream… To Tumble Clinics”\, designed to help athletes perfect technique\, build confidence\, and advance to the next level. Please not that kids can only do ONE clinic based on their current skills. \n🕒 Clinic Sessions\n12:00–1:30 PM | Building the Dream\n• Walkovers & below\n• Focus on fundamentals\, technique\, and confidence \n1:30–3:00 PM | Taking the Dream Airborne\n• Handsprings\, tucks\, layouts & fulls\n• For athletes ready to work airborne skills\n• Must have both front and back walkover already \n📍 Available at BOTH locations:\n• Rochester: 5 Marway Circle\, Ste 2\, Rochester\, NY 14624\n• Geneseo: 4360 Pondside Plaza\, Geneseo\, NY 14454 \n💲 Pricing:\n• $15 for members\n• $20 for non-members \n🗓 Registration closes January 12th — don’t miss this opportunity to sharpen current skills and take your tumbling dreams to new heights! \nSpots are limited—secure yours today and come ready to dream\, build\, and fly ✨ \n  \n 
URL:https://dynamiceliteathletics.com/event/i-have-a-dream-to-tumble-clinics/
CATEGORIES:Upcoming Events
ATTACH;FMTTYPE=image/png:https://dynamiceliteathletics.com/wp-content/uploads/2025/12/Blue-Minimalist-Fundraising-Event-Instagram-Post-Presentation.png
END:VEVENT
END:VCALENDAR